BEGIN:VCALENDAR
VERSION:2.0
PRODID:-//Salt Spring Island Fire Rescue - ECPv6.15.20//NONSGML v1.0//EN
CALSCALE:GREGORIAN
METHOD:PUBLISH
X-ORIGINAL-URL:https://saltspringfire.com
X-WR-CALDESC:Events for Salt Spring Island Fire Rescue
REFRESH-INTERVAL;VALUE=DURATION:PT1H
X-Robots-Tag:noindex
X-PUBLISHED-TTL:PT1H
BEGIN:VTIMEZONE
TZID:America/Vancouver
BEGIN:DAYLIGHT
TZOFFSETFROM:-0800
TZOFFSETTO:-0700
TZNAME:PDT
DTSTART:20250309T100000
END:DAYLIGHT
BEGIN:STANDARD
TZOFFSETFROM:-0700
TZOFFSETTO:-0800
TZNAME:PST
DTSTART:20251102T090000
END:STANDARD
BEGIN:DAYLIGHT
TZOFFSETFROM:-0800
TZOFFSETTO:-0700
TZNAME:PDT
DTSTART:20260308T100000
END:DAYLIGHT
BEGIN:STANDARD
TZOFFSETFROM:-0700
TZOFFSETTO:-0800
TZNAME:PST
DTSTART:20261101T090000
END:STANDARD
BEGIN:DAYLIGHT
TZOFFSETFROM:-0800
TZOFFSETTO:-0700
TZNAME:PDT
DTSTART:20270314T100000
END:DAYLIGHT
BEGIN:STANDARD
TZOFFSETFROM:-0700
TZOFFSETTO:-0800
TZNAME:PST
DTSTART:20271107T090000
END:STANDARD
END:VTIMEZONE
BEGIN:VEVENT
DTSTART;TZID=America/Vancouver:20260505T090000
DTEND;TZID=America/Vancouver:20260505T103000
DTSTAMP:20260424T083504
CREATED:20251205T230511Z
LAST-MODIFIED:20251205T233123Z
UID:10603-1777971600-1777977000@saltspringfire.com
SUMMARY:Strategic Planning and Policy Development Committee Meeting
DESCRIPTION:Regular monthly meeting
URL:https://saltspringfire.com/calendar/strategic-planning-and-policy-development-committee-meeting-11/
LOCATION:British Columbia
CATEGORIES:Trustees
ORGANIZER;CN="Trustees":MAILTO:trustees@saltspringfire.com
END:VEVENT
BEGIN:VEVENT
DTSTART;TZID=America/Vancouver:20260505T110000
DTEND;TZID=America/Vancouver:20260505T123000
DTSTAMP:20260424T083504
CREATED:20251205T234009Z
LAST-MODIFIED:20251205T234009Z
UID:10629-1777978800-1777984200@saltspringfire.com
SUMMARY:Communications and Marketing Committee
DESCRIPTION:Regular monthly meeting
URL:https://saltspringfire.com/calendar/communications-and-marketing-committee-5/
LOCATION:British Columbia
CATEGORIES:Trustees
ORGANIZER;CN="Trustees":MAILTO:trustees@saltspringfire.com
END:VEVENT
BEGIN:VEVENT
DTSTART;TZID=America/Vancouver:20260512T110000
DTEND;TZID=America/Vancouver:20260512T123000
DTSTAMP:20260424T083504
CREATED:20251205T234515Z
LAST-MODIFIED:20251205T234515Z
UID:10637-1778583600-1778589000@saltspringfire.com
SUMMARY:Finance and Audit Committee Meeting
DESCRIPTION:Regular monthly meeting
URL:https://saltspringfire.com/calendar/finance-and-audit-committee-meeting-7/
LOCATION:British Columbia
CATEGORIES:Trustees
ORGANIZER;CN="Trustees":MAILTO:trustees@saltspringfire.com
END:VEVENT
BEGIN:VEVENT
DTSTART;TZID=America/Vancouver:20260525T190000
DTEND;TZID=America/Vancouver:20260525T190000
DTSTAMP:20260424T083504
CREATED:20251121T222851Z
LAST-MODIFIED:20251121T232806Z
UID:10524-1779735600-1779735600@saltspringfire.com
SUMMARY:Board of Trustees Meeting
DESCRIPTION:Regular monthly meeting. \nMicrosoft Teams meeting\nJoin on your computer\, mobile app or room device\nClick here to join the meeting
URL:https://saltspringfire.com/calendar/board-of-trustees-meeting-14/
LOCATION:Training Room\, Ganges Fire Hall\, 105 Lower Ganges Road\, Salt Spring Island\, British Columbia\, V8K2T1\, Canada
CATEGORIES:Trustees
ORGANIZER;CN="Trustees":MAILTO:trustees@saltspringfire.com
END:VEVENT
END:VCALENDAR