BEGIN:VCALENDAR
VERSION:2.0
PRODID:-//Salt Spring Island Fire Rescue - ECPv6.15.20//NONSGML v1.0//EN
CALSCALE:GREGORIAN
METHOD:PUBLISH
X-WR-CALNAME:Salt Spring Island Fire Rescue
X-ORIGINAL-URL:https://saltspringfire.com
X-WR-CALDESC:Events for Salt Spring Island Fire Rescue
REFRESH-INTERVAL;VALUE=DURATION:PT1H
X-Robots-Tag:noindex
X-PUBLISHED-TTL:PT1H
BEGIN:VTIMEZONE
TZID:America/Vancouver
BEGIN:DAYLIGHT
TZOFFSETFROM:-0800
TZOFFSETTO:-0700
TZNAME:PDT
DTSTART:20240310T100000
END:DAYLIGHT
BEGIN:STANDARD
TZOFFSETFROM:-0700
TZOFFSETTO:-0800
TZNAME:PST
DTSTART:20241103T090000
END:STANDARD
BEGIN:DAYLIGHT
TZOFFSETFROM:-0800
TZOFFSETTO:-0700
TZNAME:PDT
DTSTART:20250309T100000
END:DAYLIGHT
BEGIN:STANDARD
TZOFFSETFROM:-0700
TZOFFSETTO:-0800
TZNAME:PST
DTSTART:20251102T090000
END:STANDARD
BEGIN:DAYLIGHT
TZOFFSETFROM:-0800
TZOFFSETTO:-0700
TZNAME:PDT
DTSTART:20260308T100000
END:DAYLIGHT
BEGIN:STANDARD
TZOFFSETFROM:-0700
TZOFFSETTO:-0800
TZNAME:PST
DTSTART:20261101T090000
END:STANDARD
BEGIN:DAYLIGHT
TZOFFSETFROM:-0800
TZOFFSETTO:-0700
TZNAME:PDT
DTSTART:20270314T100000
END:DAYLIGHT
BEGIN:STANDARD
TZOFFSETFROM:-0700
TZOFFSETTO:-0800
TZNAME:PST
DTSTART:20271107T090000
END:STANDARD
END:VTIMEZONE
BEGIN:VEVENT
DTSTART;TZID=America/Vancouver:20260113T110000
DTEND;TZID=America/Vancouver:20260113T110000
DTSTAMP:20260422T035336
CREATED:20251205T225451Z
LAST-MODIFIED:20260206T235504Z
UID:10594-1768302000-1768302000@saltspringfire.com
SUMMARY:Strategic Planning and Policy Development Committee Meeting
DESCRIPTION:Regular monthly meeting \nMeeting Materials: \n\n2026-01-13 SPPD Committee Meeting Agenda \n2026-01-13 SPPD Committee Meeting Minutes
URL:https://saltspringfire.com/calendar/strategic-planning-and-policy-development-committee-meeting-7/
LOCATION:Training Room\, Ganges Fire Hall\, 105 Lower Ganges Road\, Salt Spring Island\, British Columbia\, V8K2T1\, Canada
CATEGORIES:Trustees
ORGANIZER;CN="Trustees":MAILTO:trustees@saltspringfire.com
END:VEVENT
BEGIN:VEVENT
DTSTART;TZID=America/Vancouver:20251215T190000
DTEND;TZID=America/Vancouver:20251215T190000
DTSTAMP:20260422T035336
CREATED:20250430T233021Z
LAST-MODIFIED:20251121T215116Z
UID:9952-1765825200-1765825200@saltspringfire.com
SUMMARY:Board of Trustees Meeting
DESCRIPTION:Regular monthly meeting. \nMicrosoft Teams meeting\nJoin on your computer\, mobile app or room device\nClick here to join the meeting
URL:https://saltspringfire.com/calendar/board-of-trustees-meeting-8/
LOCATION:Training Room\, Ganges Fire Hall\, 105 Lower Ganges Road\, Salt Spring Island\, British Columbia\, V8K2T1\, Canada
CATEGORIES:Trustees
ORGANIZER;CN="Trustees":MAILTO:trustees@saltspringfire.com
END:VEVENT
BEGIN:VEVENT
DTSTART;TZID=America/Vancouver:20251202T110000
DTEND;TZID=America/Vancouver:20251202T110000
DTSTAMP:20260422T035336
CREATED:20251112T221630Z
LAST-MODIFIED:20260206T235218Z
UID:10456-1764673200-1764673200@saltspringfire.com
SUMMARY:Communications and Marketing Committee
DESCRIPTION:Regular monthly meeting \nMeeting Materials: \n\n2025-12-02 Communications Committee Meeting Agenda \n2025-12-02 Communications Committee Meeting Minutes
URL:https://saltspringfire.com/calendar/communications-and-marketing-committee-2/
LOCATION:Training Room\, Ganges Fire Hall\, 105 Lower Ganges Road\, Salt Spring Island\, British Columbia\, V8K2T1\, Canada
CATEGORIES:Trustees
ORGANIZER;CN="Trustees":MAILTO:trustees@saltspringfire.com
END:VEVENT
BEGIN:VEVENT
DTSTART;TZID=America/Vancouver:20251202T090000
DTEND;TZID=America/Vancouver:20251202T103000
DTSTAMP:20260422T035336
CREATED:20250428T224601Z
LAST-MODIFIED:20260117T000225Z
UID:9893-1764666000-1764671400@saltspringfire.com
SUMMARY:Strategic Planning and Policy Development Committee Meeting
DESCRIPTION:Regular monthly meeting \nMeeting Materials: \n\n2025-12-02 SPPD Committee Meeting Agenda \n2025-12-02 SPPD Committee Meeting Minutes
URL:https://saltspringfire.com/calendar/strategic-planning-and-policy-development-committee-meeting-2/
LOCATION:Training Room\, Ganges Fire Hall\, 105 Lower Ganges Road\, Salt Spring Island\, British Columbia\, V8K2T1\, Canada
CATEGORIES:Trustees
ORGANIZER;CN="Trustees":MAILTO:trustees@saltspringfire.com
END:VEVENT
BEGIN:VEVENT
DTSTART;TZID=America/Vancouver:20251117T190000
DTEND;TZID=America/Vancouver:20251117T190000
DTSTAMP:20260422T035336
CREATED:20250430T232911Z
LAST-MODIFIED:20260123T225431Z
UID:9950-1763406000-1763406000@saltspringfire.com
SUMMARY:Board of Trustees Meeting
DESCRIPTION:Regular monthly meeting. \nMeeting Materials: \n\n2025-11-17 Regular Board Meeting Agenda \n2025-11-17 Regular Board Meeting Minutes \n\n 
URL:https://saltspringfire.com/calendar/board-of-trustees-meeting-7/
LOCATION:Training Room\, Ganges Fire Hall\, 105 Lower Ganges Road\, Salt Spring Island\, British Columbia\, V8K2T1\, Canada
CATEGORIES:Trustees
ORGANIZER;CN="Trustees":MAILTO:trustees@saltspringfire.com
END:VEVENT
BEGIN:VEVENT
DTSTART;TZID=America/Vancouver:20251117T183000
DTEND;TZID=America/Vancouver:20251117T183000
DTSTAMP:20260422T035336
CREATED:20251114T220253Z
LAST-MODIFIED:20260123T223438Z
UID:10463-1763404200-1763404200@saltspringfire.com
SUMMARY:Special General Meeting
DESCRIPTION:Meeting Materials: \n\n2025-11-17 Special General Meeting Agenda \n2025-11-17 Special General Meeting Minutes \nElection by Acclamation Notice
URL:https://saltspringfire.com/calendar/special-general-meeting/
LOCATION:Training Room\, Ganges Fire Hall\, 105 Lower Ganges Road\, Salt Spring Island\, British Columbia\, V8K2T1\, Canada
CATEGORIES:Trustees
ORGANIZER;CN="Trustees":MAILTO:trustees@saltspringfire.com
END:VEVENT
BEGIN:VEVENT
DTSTART;TZID=America/Vancouver:20251104T110000
DTEND;TZID=America/Vancouver:20251104T123000
DTSTAMP:20260422T035336
CREATED:20250428T221506Z
LAST-MODIFIED:20260206T234813Z
UID:9861-1762254000-1762259400@saltspringfire.com
SUMMARY:Communications and Marketing Committee
DESCRIPTION:Regular monthly meeting
URL:https://saltspringfire.com/calendar/communications-and-marketing-committee-7/
LOCATION:Training Room\, Ganges Fire Hall\, 105 Lower Ganges Road\, Salt Spring Island\, British Columbia\, V8K2T1\, Canada
CATEGORIES:Trustees
ORGANIZER;CN="Trustees":MAILTO:trustees@saltspringfire.com
END:VEVENT
BEGIN:VEVENT
DTSTART;TZID=America/Vancouver:20251104T090000
DTEND;TZID=America/Vancouver:20251104T103000
DTSTAMP:20260422T035336
CREATED:20250428T224450Z
LAST-MODIFIED:20251203T214406Z
UID:9891-1762246800-1762252200@saltspringfire.com
SUMMARY:Strategic Planning and Policy Development Committee Meeting
DESCRIPTION:Regular monthly meeting \nMeeting Materials: \n\n2025-11-04 SPPD Committee Meeting Agenda \n2025-11-04 SPPD Committee Meeting Minutes
URL:https://saltspringfire.com/calendar/strategic-planning-and-policy-development-committee-meeting/
LOCATION:Training Room\, Ganges Fire Hall\, 105 Lower Ganges Road\, Salt Spring Island\, British Columbia\, V8K2T1\, Canada
CATEGORIES:Trustees
ORGANIZER;CN="Trustees":MAILTO:trustees@saltspringfire.com
END:VEVENT
BEGIN:VEVENT
DTSTART;TZID=America/Vancouver:20251020T190000
DTEND;TZID=America/Vancouver:20251020T190000
DTSTAMP:20260422T035336
CREATED:20250430T232808Z
LAST-MODIFIED:20251128T224024Z
UID:9948-1760986800-1760986800@saltspringfire.com
SUMMARY:Board of Trustees Meeting
DESCRIPTION:Regular monthly meeting. \nMeeting Materials: \n\n2025-10-20 Regular Board Meeting Agenda \n2025-10-20 Regular Board Meeting Minutes
URL:https://saltspringfire.com/calendar/board-of-trustees-meeting-6/
LOCATION:Training Room\, Ganges Fire Hall\, 105 Lower Ganges Road\, Salt Spring Island\, British Columbia\, V8K2T1\, Canada
CATEGORIES:Trustees
ORGANIZER;CN="Trustees":MAILTO:trustees@saltspringfire.com
END:VEVENT
BEGIN:VEVENT
DTSTART;TZID=America/Vancouver:20251007T090000
DTEND;TZID=America/Vancouver:20251007T103000
DTSTAMP:20260422T035336
CREATED:20250428T224159Z
LAST-MODIFIED:20251105T222939Z
UID:9885-1759827600-1759833000@saltspringfire.com
SUMMARY:Strategic Planning and Policy Development Committee Meeting
DESCRIPTION:Regular monthly meeting \nMeeting Materials: \n\n2025-10-07 SPPD Committee Meeting Agenda  \n2025-10-07 SPPD Committee Meeting Minutes
URL:https://saltspringfire.com/calendar/sppdc/
LOCATION:Training Room\, Ganges Fire Hall\, 105 Lower Ganges Road\, Salt Spring Island\, British Columbia\, V8K2T1\, Canada
CATEGORIES:Trustees
ORGANIZER;CN="Trustees":MAILTO:trustees@saltspringfire.com
END:VEVENT
BEGIN:VEVENT
DTSTART;TZID=America/Vancouver:20250915T190000
DTEND;TZID=America/Vancouver:20250915T190000
DTSTAMP:20260422T035336
CREATED:20250430T232706Z
LAST-MODIFIED:20251027T211108Z
UID:9946-1757962800-1757962800@saltspringfire.com
SUMMARY:Board of Trustees Meeting
DESCRIPTION:Regular monthly meeting. \nMeeting Materials: \n\n2025-09-15 Regular Board Meeting Agenda \n2025-09-15 Regular Board Meeting Minutes
URL:https://saltspringfire.com/calendar/board-of-trustees-meeting-5/
LOCATION:Training Room\, Ganges Fire Hall\, 105 Lower Ganges Road\, Salt Spring Island\, British Columbia\, V8K2T1\, Canada
CATEGORIES:Trustees
ORGANIZER;CN="Trustees":MAILTO:trustees@saltspringfire.com
END:VEVENT
BEGIN:VEVENT
DTSTART;TZID=America/Vancouver:20250909T110000
DTEND;TZID=America/Vancouver:20250909T110000
DTSTAMP:20260422T035336
CREATED:20250910T230016Z
LAST-MODIFIED:20251008T233356Z
UID:10183-1757415600-1757415600@saltspringfire.com
SUMMARY:Finance and Audit Committee Meeting
DESCRIPTION:Regular monthly meeting \nMeeting Materials: \n\n2025-09-09-Finance Committee Meeting Agenda 
URL:https://saltspringfire.com/calendar/finance-and-audit-committee-meeting-5/
LOCATION:Training Room\, Ganges Fire Hall\, 105 Lower Ganges Road\, Salt Spring Island\, British Columbia\, V8K2T1\, Canada
CATEGORIES:Trustees
ORGANIZER;CN="Trustees":MAILTO:trustees@saltspringfire.com
END:VEVENT
BEGIN:VEVENT
DTSTART;TZID=America/Vancouver:20250908T183000
DTEND;TZID=America/Vancouver:20250908T183000
DTSTAMP:20260422T035336
CREATED:20250723T224349Z
LAST-MODIFIED:20250919T211153Z
UID:10108-1757356200-1757356200@saltspringfire.com
SUMMARY:2025 Town Hall Meeting
DESCRIPTION:You are invited to join the 2025 Town Hall meeting. \nMeeting Materials: \n\n\n\n2025-09-08 Agenda \n2025-09-08 Minutes
URL:https://saltspringfire.com/calendar/2025-town-hall-meeting/
LOCATION:Training Room\, Ganges Fire Hall\, 105 Lower Ganges Road\, Salt Spring Island\, British Columbia\, V8K2T1\, Canada
CATEGORIES:Trustees
ORGANIZER;CN="Trustees":MAILTO:trustees@saltspringfire.com
END:VEVENT
BEGIN:VEVENT
DTSTART;TZID=America/Vancouver:20250902T090000
DTEND;TZID=America/Vancouver:20250902T103000
DTSTAMP:20260422T035336
CREATED:20250428T224102Z
LAST-MODIFIED:20250806T215545Z
UID:9883-1756803600-1756809000@saltspringfire.com
SUMMARY:Strategic Planning and Policy Development Committee Meeting
DESCRIPTION:Regular monthly meeting \nMicrosoft Teams meeting\nJoin on your computer\, mobile app or room device\nClick here to join the meeting
URL:https://saltspringfire.com/calendar/strategic-planning-and-policy-development-committee-5/
LOCATION:Training Room\, Ganges Fire Hall\, 105 Lower Ganges Road\, Salt Spring Island\, British Columbia\, V8K2T1\, Canada
CATEGORIES:Trustees
ORGANIZER;CN="Trustees":MAILTO:trustees@saltspringfire.com
END:VEVENT
BEGIN:VEVENT
DTSTART;TZID=America/Vancouver:20250818T190000
DTEND;TZID=America/Vancouver:20250818T190000
DTSTAMP:20260422T035336
CREATED:20250430T232603Z
LAST-MODIFIED:20250806T215658Z
UID:9944-1755543600-1755543600@saltspringfire.com
SUMMARY:Board of Trustees Meeting
DESCRIPTION:Regular monthly meeting. \nMicrosoft Teams meeting\nJoin on your computer\, mobile app or room device\nClick here to join the meeting
URL:https://saltspringfire.com/calendar/board-of-trustees-meeting-4/
LOCATION:Training Room\, Ganges Fire Hall\, 105 Lower Ganges Road\, Salt Spring Island\, British Columbia\, V8K2T1\, Canada
CATEGORIES:Trustees
ORGANIZER;CN="Trustees":MAILTO:trustees@saltspringfire.com
END:VEVENT
BEGIN:VEVENT
DTSTART;TZID=America/Vancouver:20250805T110000
DTEND;TZID=America/Vancouver:20250805T123000
DTSTAMP:20260422T035336
CREATED:20250428T221151Z
LAST-MODIFIED:20251008T224120Z
UID:9855-1754391600-1754397000@saltspringfire.com
SUMMARY:Communications and Marketing Committee Meeting
DESCRIPTION:Regular monthly meeting \n 
URL:https://saltspringfire.com/calendar/communications-and-marketing-committee-4/
LOCATION:Training Room\, Ganges Fire Hall\, 105 Lower Ganges Road\, Salt Spring Island\, British Columbia\, V8K2T1\, Canada
CATEGORIES:Trustees
ORGANIZER;CN="Trustees":MAILTO:trustees@saltspringfire.com
END:VEVENT
BEGIN:VEVENT
DTSTART;TZID=America/Vancouver:20250805T090000
DTEND;TZID=America/Vancouver:20250805T103000
DTSTAMP:20260422T035336
CREATED:20250428T223941Z
LAST-MODIFIED:20251008T233245Z
UID:9881-1754384400-1754389800@saltspringfire.com
SUMMARY:Strategic Planning and Policy Development Committee Meeting
DESCRIPTION:Regular monthly meeting \nMeeting Materials: \n\n2025-08-05 SPPD Committee Meeting Agenda  \n2025-08-05 SPPD Committee Meeting Minutes
URL:https://saltspringfire.com/calendar/strategic-planning-and-policy-development-committee-4/
LOCATION:Training Room\, Ganges Fire Hall\, 105 Lower Ganges Road\, Salt Spring Island\, British Columbia\, V8K2T1\, Canada
CATEGORIES:Trustees
ORGANIZER;CN="Trustees":MAILTO:trustees@saltspringfire.com
END:VEVENT
BEGIN:VEVENT
DTSTART;TZID=America/Vancouver:20250721T190000
DTEND;TZID=America/Vancouver:20250721T190000
DTSTAMP:20260422T035336
CREATED:20250430T232500Z
LAST-MODIFIED:20251008T233150Z
UID:9942-1753124400-1753124400@saltspringfire.com
SUMMARY:Board of Trustees Meeting
DESCRIPTION:Regular monthly meeting. \nMeeting Materials: \n\n2025-07-21 Regular Board Meeting Agenda \n2025-07-21 Regular Board Meeting Minutes
URL:https://saltspringfire.com/calendar/board-of-trustees-meeting-3/
LOCATION:Training Room\, Ganges Fire Hall\, 105 Lower Ganges Road\, Salt Spring Island\, British Columbia\, V8K2T1\, Canada
CATEGORIES:Trustees
ORGANIZER;CN="Trustees":MAILTO:trustees@saltspringfire.com
END:VEVENT
BEGIN:VEVENT
DTSTART;TZID=America/Vancouver:20250715T110000
DTEND;TZID=America/Vancouver:20250715T123000
DTSTAMP:20260422T035336
CREATED:20250428T213730Z
LAST-MODIFIED:20251008T233115Z
UID:9838-1752577200-1752582600@saltspringfire.com
SUMMARY:Finance and Audit Committee Meeting
DESCRIPTION:Regular monthly meeting \nMeeting Materials: \n\n2025-07-15 Finance Committee Meeting Minutes
URL:https://saltspringfire.com/calendar/finance-and-audit-committee-meeting-4/
LOCATION:Training Room\, Ganges Fire Hall\, 105 Lower Ganges Road\, Salt Spring Island\, British Columbia\, V8K2T1\, Canada
CATEGORIES:Trustees
ORGANIZER;CN="Trustees":MAILTO:trustees@saltspringfire.com
END:VEVENT
BEGIN:VEVENT
DTSTART;TZID=America/Vancouver:20250708T110000
DTEND;TZID=America/Vancouver:20250708T110000
DTSTAMP:20260422T035336
CREATED:20251203T214007Z
LAST-MODIFIED:20251203T214007Z
UID:10585-1751972400-1751972400@saltspringfire.com
SUMMARY:Communications and Marketing Committee Meeting
DESCRIPTION:Regular monthly meeting \nMeeting Materials: \n\n2025-07-08 Communications Committee Meeting Minutes
URL:https://saltspringfire.com/calendar/communications-and-marketing-committee-meeting-5/
LOCATION:Training Room\, Ganges Fire Hall\, 105 Lower Ganges Road\, Salt Spring Island\, British Columbia\, V8K2T1\, Canada
CATEGORIES:Trustees
ORGANIZER;CN="Trustees":MAILTO:trustees@saltspringfire.com
END:VEVENT
BEGIN:VEVENT
DTSTART;TZID=America/Vancouver:20250708T090000
DTEND;TZID=America/Vancouver:20250708T103000
DTSTAMP:20260422T035336
CREATED:20250428T223105Z
LAST-MODIFIED:20251008T225057Z
UID:9878-1751965200-1751970600@saltspringfire.com
SUMMARY:Strategic Planning and Policy Development Committee Meeting
DESCRIPTION:Regular monthly meeting \nMeeting Materials: \n\n2025-07-08 SPPD Committee Meeting Agenda  \n2025-07-08 SPPD Committee Meeting Minutes
URL:https://saltspringfire.com/calendar/strategic-planning-and-policy-development-committee-3/
LOCATION:Training Room\, Ganges Fire Hall\, 105 Lower Ganges Road\, Salt Spring Island\, British Columbia\, V8K2T1\, Canada
CATEGORIES:Trustees
ORGANIZER;CN="Trustees":MAILTO:trustees@saltspringfire.com
END:VEVENT
BEGIN:VEVENT
DTSTART;TZID=America/Vancouver:20250616T190000
DTEND;TZID=America/Vancouver:20250616T190000
DTSTAMP:20260422T035336
CREATED:20250430T232355Z
LAST-MODIFIED:20251008T232946Z
UID:9940-1750100400-1750100400@saltspringfire.com
SUMMARY:Board of Trustees Meeting
DESCRIPTION:Regular monthly meeting. \nMeeting Materials: \n\n2025-06-16 Regular Board Meeting Agenda \n2025-06-16 Regular Board Meeting Minutes
URL:https://saltspringfire.com/calendar/board-of-trustees-meeting-2/
LOCATION:Training Room\, Ganges Fire Hall\, 105 Lower Ganges Road\, Salt Spring Island\, British Columbia\, V8K2T1\, Canada
CATEGORIES:Trustees
ORGANIZER;CN="Trustees":MAILTO:trustees@saltspringfire.com
END:VEVENT
BEGIN:VEVENT
DTSTART;TZID=America/Vancouver:20250610T110000
DTEND;TZID=America/Vancouver:20250610T123000
DTSTAMP:20260422T035336
CREATED:20250428T213616Z
LAST-MODIFIED:20251008T232834Z
UID:9835-1749553200-1749558600@saltspringfire.com
SUMMARY:Finance and Audit Committee Meeting
DESCRIPTION:Regular monthly meeting \nMeeting Materials: \n\n2025-06-10 Finance Committee Meeting Agenda \n2025-06-10 Finance Committee Meeting Minutes
URL:https://saltspringfire.com/calendar/finance-and-audit-committee-meeting-3/
LOCATION:SSIFPD Administration Office\, 1202 - 115 Fulford-Ganges Road\, Salt Spring Island\, BC\, Canada
CATEGORIES:Trustees
ORGANIZER;CN="Trustees":MAILTO:trustees@saltspringfire.com
END:VEVENT
BEGIN:VEVENT
DTSTART;TZID=America/Vancouver:20250603T090000
DTEND;TZID=America/Vancouver:20250603T090000
DTSTAMP:20260422T035336
CREATED:20250428T214257Z
LAST-MODIFIED:20251008T232744Z
UID:9842-1748941200-1748941200@saltspringfire.com
SUMMARY:Strategic Planning and Policy Development Committee Meeting
DESCRIPTION:Regular monthly meeting \nMeeting Materials: \n\n2025-06-03 SPPD Committee Meeting Agenda  \n2025-06-03 SPPD Committee Meeting Minutes 
URL:https://saltspringfire.com/calendar/strategic-planning-and-policy-development-committee-2/
LOCATION:Training Room\, Ganges Fire Hall\, 105 Lower Ganges Road\, Salt Spring Island\, British Columbia\, V8K2T1\, Canada
CATEGORIES:Trustees
ORGANIZER;CN="Trustees":MAILTO:trustees@saltspringfire.com
END:VEVENT
BEGIN:VEVENT
DTSTART;TZID=America/Vancouver:20250526T190000
DTEND;TZID=America/Vancouver:20250526T190000
DTSTAMP:20260422T035336
CREATED:20250430T232247Z
LAST-MODIFIED:20251008T232633Z
UID:9938-1748286000-1748286000@saltspringfire.com
SUMMARY:Board of Trustees Meeting
DESCRIPTION:Regular monthly meeting. \nMeeting Materials: \n\n2025-05-26 Regular Board Meeting Agenda \n2025-05-26 Regular Board Meeting Minutes
URL:https://saltspringfire.com/calendar/board-of-trustees-meeting/
LOCATION:Training Room\, Ganges Fire Hall\, 105 Lower Ganges Road\, Salt Spring Island\, British Columbia\, V8K2T1\, Canada
CATEGORIES:Trustees
ORGANIZER;CN="Trustees":MAILTO:trustees@saltspringfire.com
END:VEVENT
BEGIN:VEVENT
DTSTART;TZID=America/Vancouver:20250513T110000
DTEND;TZID=America/Vancouver:20250513T110000
DTSTAMP:20260422T035336
CREATED:20250428T213207Z
LAST-MODIFIED:20251008T233816Z
UID:9833-1747134000-1747134000@saltspringfire.com
SUMMARY:Finance and Audit Committee Meeting
DESCRIPTION:Regular monthly meeting
URL:https://saltspringfire.com/calendar/finance-and-audit-committee-meeting-2/
LOCATION:Training Room\, Ganges Fire Hall\, 105 Lower Ganges Road\, Salt Spring Island\, British Columbia\, V8K2T1\, Canada
CATEGORIES:Trustees
ORGANIZER;CN="Trustees":MAILTO:trustees@saltspringfire.com
END:VEVENT
BEGIN:VEVENT
DTSTART;TZID=America/Vancouver:20250506T110000
DTEND;TZID=America/Vancouver:20250506T110000
DTSTAMP:20260422T035336
CREATED:20250428T214545Z
LAST-MODIFIED:20251008T233748Z
UID:9844-1746529200-1746529200@saltspringfire.com
SUMMARY:Communications and Marketing Committee Meeting
DESCRIPTION:Regular monthly meeting
URL:https://saltspringfire.com/calendar/communications-and-marketing-committee/
LOCATION:Training Room\, Ganges Fire Hall\, 105 Lower Ganges Road\, Salt Spring Island\, British Columbia\, V8K2T1\, Canada
CATEGORIES:Trustees
ORGANIZER;CN="Trustees":MAILTO:trustees@saltspringfire.com
END:VEVENT
BEGIN:VEVENT
DTSTART;TZID=America/Vancouver:20250506T090000
DTEND;TZID=America/Vancouver:20250506T090000
DTSTAMP:20260422T035336
CREATED:20250428T214151Z
LAST-MODIFIED:20251008T233715Z
UID:9840-1746522000-1746522000@saltspringfire.com
SUMMARY:Strategic Planning and Policy Development Committee Meeting
DESCRIPTION:Meeting Materials: \n\n2025-05-06 SPPD Committee Meeting Agenda \n22025-05-06 SPPD Committee Meeting Minutes
URL:https://saltspringfire.com/calendar/strategic-planning-and-policy-development-committee/
LOCATION:Training Room\, Ganges Fire Hall\, 105 Lower Ganges Road\, Salt Spring Island\, British Columbia\, V8K2T1\, Canada
CATEGORIES:Trustees
ORGANIZER;CN="Trustees":MAILTO:trustees@saltspringfire.com
END:VEVENT
BEGIN:VEVENT
DTSTART;TZID=America/Vancouver:20250428T190000
DTEND;TZID=America/Vancouver:20250428T190000
DTSTAMP:20260422T035336
CREATED:20250428T205602Z
LAST-MODIFIED:20251008T232507Z
UID:9814-1745866800-1745866800@saltspringfire.com
SUMMARY:Board of Trustees Meeting
DESCRIPTION:Regular monthly meeting. \nMeeting Materials: \n\n2025-04-28 Regular Board Meeting Agenda \n2025-04-28 Regular Board Meeting Minutes
URL:https://saltspringfire.com/calendar/board-of-trustee-meeting/
LOCATION:Training Room\, Ganges Fire Hall\, 105 Lower Ganges Road\, Salt Spring Island\, British Columbia\, V8K2T1\, Canada
CATEGORIES:Trustees
ORGANIZER;CN="Trustees":MAILTO:trustees@saltspringfire.com
END:VEVENT
BEGIN:VEVENT
DTSTART;TZID=America/Vancouver:20250414T183000
DTEND;TZID=America/Vancouver:20250414T183000
DTSTAMP:20260422T035336
CREATED:20250428T194716Z
LAST-MODIFIED:20260226T003723Z
UID:9805-1744655400-1744655400@saltspringfire.com
SUMMARY:AGM 2025
DESCRIPTION:Public Notice is hereby given to the owners of land within the Salt Spring Island Fire Protection District\nthat the Annual General Meeting will be held on Monday\, April 14\, 2025 at 6:30 p.m. at the Ganges Fire\nHall\, 105 Lower Ganges Road\, Salt Spring Island\, BC and virtually through Microsoft Teams. \nThe agenda will include:\n• Review & accept the minutes from the 64th Annual General Meeting\n• Review the 2024 Audited Financial Statements\n• Receive the 2024 Annual Fire Chief Report\n• Receive the 2024 Salt Spring Island Firefighter Associa9on Report\n• Receive the 2024 Chair of the Board of Trustees & Committee Reports\n• Call for a motion to fix the remuneration of the Trustees for the ensuing year\n• Trustee acclamation for a three-year term\n• Questions from the Floor \nMeeting Materials: \n\n2025-04-14-AGM Meeting Agenda\nFinancial Statements 2024\n2025-04-14-Special Meeting Agenda\n2024-2029 Strategic Plan Town Hall Update\nNew Firehall Project Steering Committee\n2025-04-14 AGM Meeting Minutes\n2025-04-14 Special Board Meeting Minutes\n\n 
URL:https://saltspringfire.com/calendar/agm-2025-2/
LOCATION:Training Room\, Ganges Fire Hall\, 105 Lower Ganges Road\, Salt Spring Island\, British Columbia\, V8K2T1\, Canada
CATEGORIES:Trustees
END:VEVENT
END:VCALENDAR