BEGIN:VCALENDAR
VERSION:2.0
PRODID:-//Salt Spring Island Fire Rescue - ECPv6.15.20//NONSGML v1.0//EN
CALSCALE:GREGORIAN
METHOD:PUBLISH
X-WR-CALNAME:Salt Spring Island Fire Rescue
X-ORIGINAL-URL:https://saltspringfire.com
X-WR-CALDESC:Events for Salt Spring Island Fire Rescue
REFRESH-INTERVAL;VALUE=DURATION:PT1H
X-Robots-Tag:noindex
X-PUBLISHED-TTL:PT1H
BEGIN:VTIMEZONE
TZID:America/Vancouver
BEGIN:DAYLIGHT
TZOFFSETFROM:-0800
TZOFFSETTO:-0700
TZNAME:PDT
DTSTART:20240310T100000
END:DAYLIGHT
BEGIN:STANDARD
TZOFFSETFROM:-0700
TZOFFSETTO:-0800
TZNAME:PST
DTSTART:20241103T090000
END:STANDARD
BEGIN:DAYLIGHT
TZOFFSETFROM:-0800
TZOFFSETTO:-0700
TZNAME:PDT
DTSTART:20250309T100000
END:DAYLIGHT
BEGIN:STANDARD
TZOFFSETFROM:-0700
TZOFFSETTO:-0800
TZNAME:PST
DTSTART:20251102T090000
END:STANDARD
BEGIN:DAYLIGHT
TZOFFSETFROM:-0800
TZOFFSETTO:-0700
TZNAME:PDT
DTSTART:20260308T100000
END:DAYLIGHT
BEGIN:STANDARD
TZOFFSETFROM:-0700
TZOFFSETTO:-0800
TZNAME:PST
DTSTART:20261101T090000
END:STANDARD
END:VTIMEZONE
BEGIN:VEVENT
DTSTART;TZID=America/Vancouver:20250410T140000
DTEND;TZID=America/Vancouver:20250410T160000
DTSTAMP:20260425T074526
CREATED:20250428T212627Z
LAST-MODIFIED:20251008T225827Z
UID:9826-1744293600-1744300800@saltspringfire.com
SUMMARY:Finance and Audit Committee Meeting
DESCRIPTION:Regular monthly meeting. \nMeeting Materials: \n\n2025-04-10 Finance Committee Meeting Agenda  \n2025-04-10 Finance Committee Meeting Minutes
URL:https://saltspringfire.com/calendar/finance-and-audit-committee-meeting/
LOCATION:SSIFPD Administration Office\, 1202 - 115 Fulford-Ganges Road\, Salt Spring Island\, BC\, Canada
CATEGORIES:Trustees
ORGANIZER;CN="Trustees":MAILTO:trustees@saltspringfire.com
END:VEVENT
BEGIN:VEVENT
DTSTART;TZID=America/Vancouver:20250403T140000
DTEND;TZID=America/Vancouver:20250403T140000
DTSTAMP:20260425T074526
CREATED:20250709T223747Z
LAST-MODIFIED:20251008T230420Z
UID:10083-1743688800-1743688800@saltspringfire.com
SUMMARY:Communications and Marketing Committee Meeting
DESCRIPTION:Regular monthly meeting \nMeeting Materials: \n\n2025-04-03 Communications Meeting Agenda \n2025-04-03 Communications Meeting Minutes
URL:https://saltspringfire.com/calendar/communications-and-marketing-committee-meeting-4/
LOCATION:SSIFPD Administration Office\, 1202 - 115 Fulford-Ganges Road\, Salt Spring Island\, BC\, Canada
CATEGORIES:Trustees
ORGANIZER;CN="Trustees":MAILTO:trustees@saltspringfire.com
END:VEVENT
BEGIN:VEVENT
DTSTART;TZID=America/Vancouver:20250403T090000
DTEND;TZID=America/Vancouver:20250403T103000
DTSTAMP:20260425T074526
CREATED:20250612T200447Z
LAST-MODIFIED:20251008T231853Z
UID:10049-1743670800-1743676200@saltspringfire.com
SUMMARY:Strategic Planning and Policy Development Committee Meeting
DESCRIPTION:Regular monthly meeting \nMeeting Materials: \n\n2025-04-03 SPPD Committee Meeting Agenda \n2025-04-03 SPPD Committee Meeting Minutes
URL:https://saltspringfire.com/calendar/strategic-planning-and-policy-development-committee-meeting-6/
LOCATION:Training Room\, Ganges Fire Hall\, 105 Lower Ganges Road\, Salt Spring Island\, British Columbia\, V8K2T1\, Canada
ORGANIZER;CN="Trustees":MAILTO:trustees@saltspringfire.com
END:VEVENT
BEGIN:VEVENT
DTSTART;TZID=America/Vancouver:20250331T190000
DTEND;TZID=America/Vancouver:20250331T190000
DTSTAMP:20260425T074526
CREATED:20250509T221247Z
LAST-MODIFIED:20251008T232250Z
UID:9976-1743447600-1743447600@saltspringfire.com
SUMMARY:Board of Trustees Special Meeting
DESCRIPTION:Meeting Materials: \n\n2025-03-31 Special Board Meeting Agenda \n2025-03-31 Special Board Meeting Minutes
URL:https://saltspringfire.com/calendar/board-of-trustees-special-meeting/
LOCATION:Training Room\, Ganges Fire Hall\, 105 Lower Ganges Road\, Salt Spring Island\, British Columbia\, V8K2T1\, Canada
CATEGORIES:Trustees
ORGANIZER;CN="Trustees":MAILTO:trustees@saltspringfire.com
END:VEVENT
BEGIN:VEVENT
DTSTART;TZID=America/Vancouver:20250317T190000
DTEND;TZID=America/Vancouver:20250317T190000
DTSTAMP:20260425T074526
CREATED:20250509T220756Z
LAST-MODIFIED:20251008T232003Z
UID:9973-1742238000-1742238000@saltspringfire.com
SUMMARY:Board of Trustees Meeting
DESCRIPTION:Meeting Materials: \n\n2025-03-17 Regular Board Meeting Agenda \n2025-03-17 Regular Board Meeting Minutes
URL:https://saltspringfire.com/calendar/board-of-trustees-meeting-9/
LOCATION:Training Room\, Ganges Fire Hall\, 105 Lower Ganges Road\, Salt Spring Island\, British Columbia\, V8K2T1\, Canada
CATEGORIES:Trustees
ORGANIZER;CN="Trustees":MAILTO:trustees@saltspringfire.com
END:VEVENT
BEGIN:VEVENT
DTSTART;TZID=America/Vancouver:20250306T110000
DTEND;TZID=America/Vancouver:20250306T110000
DTSTAMP:20260425T074526
CREATED:20250509T221811Z
LAST-MODIFIED:20251008T231638Z
UID:9979-1741258800-1741258800@saltspringfire.com
SUMMARY:Communications and Marketing Committee Meeting
DESCRIPTION:Meeting Materials: \n\n2025-03-06 Communications Committee Meeting Agenda \n2025-03-06 Communications Committee Meeting Minutes
URL:https://saltspringfire.com/calendar/communications-and-marketing-committee-meeting/
LOCATION:Training Room\, Ganges Fire Hall\, 105 Lower Ganges Road\, Salt Spring Island\, British Columbia\, V8K2T1\, Canada
CATEGORIES:Trustees
ORGANIZER;CN="Trustees":MAILTO:trustees@saltspringfire.com
END:VEVENT
BEGIN:VEVENT
DTSTART;TZID=America/Vancouver:20250306T090000
DTEND;TZID=America/Vancouver:20250306T103000
DTSTAMP:20260425T074526
CREATED:20250509T220321Z
LAST-MODIFIED:20251008T231311Z
UID:9971-1741251600-1741257000@saltspringfire.com
SUMMARY:Strategic Planning and Policy Development Committee Meeting
DESCRIPTION:Meeting Materials: \n\n\n\n2025-03-06 SPPD Committee Meeting Agenda  \n2025-03-06 SPPD Committee Meeting Minutes
URL:https://saltspringfire.com/calendar/strategic-planning-and-policy-development-committee-meeting-3/
LOCATION:Training Room\, Ganges Fire Hall\, 105 Lower Ganges Road\, Salt Spring Island\, British Columbia\, V8K2T1\, Canada
CATEGORIES:Trustees
ORGANIZER;CN="Trustees":MAILTO:trustees@saltspringfire.com
END:VEVENT
BEGIN:VEVENT
DTSTART;TZID=America/Vancouver:20250206T110000
DTEND;TZID=America/Vancouver:20250206T123000
DTSTAMP:20260425T074526
CREATED:20250509T231812Z
LAST-MODIFIED:20251008T231005Z
UID:9993-1738839600-1738845000@saltspringfire.com
SUMMARY:Communications and Marketing Committee Meeting
DESCRIPTION:regular monthly meeting
URL:https://saltspringfire.com/calendar/communications-and-marketing-committee-meeting-2/
LOCATION:Training Room\, Ganges Fire Hall\, 105 Lower Ganges Road\, Salt Spring Island\, British Columbia\, V8K2T1\, Canada
CATEGORIES:Trustees
ORGANIZER;CN="Trustees":MAILTO:trustees@saltspringfire.com
END:VEVENT
BEGIN:VEVENT
DTSTART;TZID=America/Vancouver:20250206T090000
DTEND;TZID=America/Vancouver:20250206T103000
DTSTAMP:20260425T074526
CREATED:20250509T230634Z
LAST-MODIFIED:20250509T230634Z
UID:9989-1738832400-1738837800@saltspringfire.com
SUMMARY:Strategic Planning and Policy Development Committee Meeting
DESCRIPTION:Regular monthly meeting \nMeeting Materials: \n\n2025-02-06-SPPD-RM-AGD-COV-DRAFT \n2025-02-06-SPPD-RM-MIN-SIGNED
URL:https://saltspringfire.com/calendar/strategic-planning-and-policy-development-committee-meeting-4/
LOCATION:Training Room\, Ganges Fire Hall\, 105 Lower Ganges Road\, Salt Spring Island\, British Columbia\, V8K2T1\, Canada
CATEGORIES:Trustees
ORGANIZER;CN="Trustees":MAILTO:trustees@saltspringfire.com
END:VEVENT
BEGIN:VEVENT
DTSTART;TZID=America/Vancouver:20250116T110000
DTEND;TZID=America/Vancouver:20250116T123000
DTSTAMP:20260425T074526
CREATED:20250509T232117Z
LAST-MODIFIED:20251008T230729Z
UID:9995-1737025200-1737030600@saltspringfire.com
SUMMARY:Communications and Marketing Committee Meeting
DESCRIPTION:Meeting Materials: \n\n\n\n2025-01-16 Communications Committee Meeting Agenda  \n2025-01-16 Communications Committee Meeting Minutes
URL:https://saltspringfire.com/calendar/communications-and-marketing-committee-meeting-3/
LOCATION:Training Room\, Ganges Fire Hall\, 105 Lower Ganges Road\, Salt Spring Island\, British Columbia\, V8K2T1\, Canada
CATEGORIES:Trustees
ORGANIZER;CN="Trustees":MAILTO:trustees@saltspringfire.com
END:VEVENT
BEGIN:VEVENT
DTSTART;TZID=America/Vancouver:20250116T090000
DTEND;TZID=America/Vancouver:20250116T103000
DTSTAMP:20260425T074526
CREATED:20250509T230918Z
LAST-MODIFIED:20250509T231415Z
UID:9991-1737018000-1737023400@saltspringfire.com
SUMMARY:Strategic Planning and Policy Development Committee Meeting
DESCRIPTION:Meeting Materials: \n\n2025-01-16-SPPD-RM-AGD-COV-DRAFT \n2025-01-16 SPPD-MIN-SIGNED
URL:https://saltspringfire.com/calendar/strategic-planning-and-policy-development-committee-meeting-5/
LOCATION:Training Room\, Ganges Fire Hall\, 105 Lower Ganges Road\, Salt Spring Island\, British Columbia\, V8K2T1\, Canada
CATEGORIES:Trustees
ORGANIZER;CN="Trustees":MAILTO:trustees@saltspringfire.com
END:VEVENT
END:VCALENDAR